BEGIN:VCALENDAR
VERSION:2.0
PRODID:-//SCVSSC//EN
CALSCALE:GREGORIAN
METHOD:PUBLISH
URL:https://comoxvalleyhockey.ca/calendar/registered-beauticians-calendar/?feed=cvssc-calendar-ical
X-FROM-URL:https://comoxvalleyhockey.ca/calendar/registered-beauticians-calendar/?feed=cvssc-calendar-ical
NAME:Registered Beauticians Calendar
X-WR-CALNAME:Registered Beauticians Calendar
DESCRIPTION:Registered Beauticians Calendar
X-WR-CALDESC:Registered Beauticians Calendar
REFRESH-INTERVAL;VALUE=DURATION:PT2M
X-PUBLISHED-TTL:PT2M
TZID:America/Vancouver
X-WR-TIMEZONE:America/Vancouver
BEGIN:VTIMEZONE
TZID:America/Vancouver
X-LIC-LOCATION:America/Vancouver
BEGIN:DAYLIGHT
TZOFFSETFROM:-0800
TZOFFSETTO:-0700
TZNAME:PDT
DTSTART:19700308T020000
RRULE:FREQ=YEARLY;BYMONTH=3;BYDAY=2SU
END:DAYLIGHT
BEGIN:STANDARD
TZOFFSETFROM:-0700
TZOFFSETTO:-0800
TZNAME:PST
DTSTART:19701101T020000
RRULE:FREQ=YEARLY;BYMONTH=11;BYDAY=1SU
END:STANDARD
END:VTIMEZONE
BEGIN:VEVENT
UID:35969
DTSTAMP;TZID=America/Vancouver:20230917T170000
DTSTART;TZID=America/Vancouver:20230917T170000
DTEND;TZID=America/Vancouver:20230917T181500
SUMMARY:Registered Beauticians 4 Badgers 5
DESCRIPTION:
STATUS:CONFIRMED
LAST-MODIFIED:20230925T173300
LOCATION:Comox Valley Sports Centre - Arena 2\, 3001 Vanier Dr\, Courtenay\, BC V9N 5Y2\, Canada
GEO:49.7110735;-125.0005839
END:VEVENT
BEGIN:VEVENT
UID:36028
DTSTAMP;TZID=America/Vancouver:20230924T200000
DTSTART;TZID=America/Vancouver:20230924T200000
DTEND;TZID=America/Vancouver:20230924T211500
SUMMARY:Walrus 2 Registered Beauticians 7
DESCRIPTION:
STATUS:CONFIRMED
LAST-MODIFIED:20230926T013000
LOCATION:Comox Valley Sports Centre - Arena 2\, 3001 Vanier Dr\, Courtenay\, BC V9N 5Y2\, Canada
GEO:49.7110735;-125.0005839
END:VEVENT
BEGIN:VEVENT
UID:35979
DTSTAMP;TZID=America/Vancouver:20230928T190000
DTSTART;TZID=America/Vancouver:20230928T190000
DTEND;TZID=America/Vancouver:20230928T201500
SUMMARY:Registered Beauticians 4 Silver Totems 5
DESCRIPTION:
STATUS:CONFIRMED
LAST-MODIFIED:20231002T190700
LOCATION:Glacier Gardens - Arena 1\, 1435 Military Row\, Comox\, BC V9M 4H2\, Canada
GEO:49.7086512;-124.9098752
END:VEVENT
BEGIN:VEVENT
UID:36010
DTSTAMP;TZID=America/Vancouver:20231006T220000
DTSTART;TZID=America/Vancouver:20231006T220000
DTEND;TZID=America/Vancouver:20231006T231500
SUMMARY:Dump Bears 2 Registered Beauticians 7
DESCRIPTION:
STATUS:CONFIRMED
LAST-MODIFIED:20231008T075100
LOCATION:Comox Valley Sports Centre - Arena 2\, 3001 Vanier Dr\, Courtenay\, BC V9N 5Y2\, Canada
GEO:49.7110735;-125.0005839
END:VEVENT
BEGIN:VEVENT
UID:36035
DTSTAMP;TZID=America/Vancouver:20231015T213000
DTSTART;TZID=America/Vancouver:20231015T213000
DTEND;TZID=America/Vancouver:20231015T224500
SUMMARY:Registered Beauticians 0 Westview Wolves 2
DESCRIPTION:
STATUS:CONFIRMED
LAST-MODIFIED:20231129T205200
LOCATION:Comox Valley Sports Centre - Arena 2\, 3001 Vanier Dr\, Courtenay\, BC V9N 5Y2\, Canada
GEO:49.7110735;-125.0005839
END:VEVENT
BEGIN:VEVENT
UID:35965
DTSTAMP;TZID=America/Vancouver:20231017T204500
DTSTART;TZID=America/Vancouver:20231017T204500
DTEND;TZID=America/Vancouver:20231017T220000
SUMMARY:Grizzlies 4 Registered Beauticians 7
DESCRIPTION:
STATUS:CONFIRMED
LAST-MODIFIED:20231128T221100
LOCATION:Comox Valley Sports Centre - Arena 2\, 3001 Vanier Dr\, Courtenay\, BC V9N 5Y2\, Canada
GEO:49.7110735;-125.0005839
END:VEVENT
BEGIN:VEVENT
UID:35994
DTSTAMP;TZID=America/Vancouver:20231026T214500
DTSTART;TZID=America/Vancouver:20231026T214500
DTEND;TZID=America/Vancouver:20231026T230000
SUMMARY:Registered Beauticians 6 Whistle Stop Railers 3
DESCRIPTION:
STATUS:CONFIRMED
LAST-MODIFIED:20231121T171000
LOCATION:Comox Valley Sports Centre - Arena 2\, 3001 Vanier Dr\, Courtenay\, BC V9N 5Y2\, Canada
GEO:49.7110735;-125.0005839
END:VEVENT
BEGIN:VEVENT
UID:36043
DTSTAMP;TZID=America/Vancouver:20231105T200000
DTSTART;TZID=America/Vancouver:20231105T200000
DTEND;TZID=America/Vancouver:20231105T211500
SUMMARY:Whalers 2 Registered Beauticians 3
DESCRIPTION:
STATUS:CONFIRMED
LAST-MODIFIED:20231107T035400
LOCATION:Comox Valley Sports Centre - Arena 2\, 3001 Vanier Dr\, Courtenay\, BC V9N 5Y2\, Canada
GEO:49.7110735;-125.0005839
END:VEVENT
BEGIN:VEVENT
UID:36364
DTSTAMP;TZID=America/Vancouver:20231110T203000
DTSTART;TZID=America/Vancouver:20231110T203000
DTEND;TZID=America/Vancouver:20231110T214500
SUMMARY:Registered Beauticians 3 Comox Bombers 4
DESCRIPTION:
STATUS:CONFIRMED
LAST-MODIFIED:20231128T221600
LOCATION:Comox Valley Sports Centre - Arena 2\, 3001 Vanier Dr\, Courtenay\, BC V9N 5Y2\, Canada
GEO:49.7110735;-125.0005839
END:VEVENT
BEGIN:VEVENT
UID:36385
DTSTAMP;TZID=America/Vancouver:20231112T200000
DTSTART;TZID=America/Vancouver:20231112T200000
DTEND;TZID=America/Vancouver:20231112T211500
SUMMARY:Badgers 2 Registered Beauticians 4
DESCRIPTION:
STATUS:CONFIRMED
LAST-MODIFIED:20231116T032200
LOCATION:Comox Valley Sports Centre - Arena 2\, 3001 Vanier Dr\, Courtenay\, BC V9N 5Y2\, Canada
GEO:49.7110735;-125.0005839
END:VEVENT
BEGIN:VEVENT
UID:36344
DTSTAMP;TZID=America/Vancouver:20231116T201500
DTSTART;TZID=America/Vancouver:20231116T201500
DTEND;TZID=America/Vancouver:20231116T213000
SUMMARY:Registered Beauticians 0 Walrus 10
DESCRIPTION:*Forfeit win for Walrus.
STATUS:CONFIRMED
LAST-MODIFIED:20231222T185800
LOCATION:Comox Valley Sports Centre - Arena 2\, 3001 Vanier Dr\, Courtenay\, BC V9N 5Y2\, Canada
GEO:49.7110735;-125.0005839
END:VEVENT
END:VCALENDAR